Package: TENxBrainData Version: 1.26.0 Command: /home/biocbuild/bbs-3.20-bioc/R/bin/R CMD INSTALL TENxBrainData StartedAt: 2025-04-01 10:59:39 -0400 (Tue, 01 Apr 2025) EndedAt: 2025-04-01 11:00:06 -0400 (Tue, 01 Apr 2025) EllapsedTime: 27.1 seconds RetCode: 0 Status: OK