Package: TENxBrainData Version: 1.26.0 Command: /home/biocbuild/bbs-3.20-bioc/R/bin/R CMD check --install=check:TENxBrainData.install-out.txt --library=/home/biocbuild/bbs-3.20-bioc/R/site-library --timings TENxBrainData_1.26.0.tar.gz StartedAt: 2025-04-01 12:42:42 -0400 (Tue, 01 Apr 2025) EndedAt: 2025-04-01 12:47:41 -0400 (Tue, 01 Apr 2025) EllapsedTime: 298.8 seconds RetCode: 0 Status: OK CheckDir: TENxBrainData.Rcheck Warnings: 0