Package: TENxBrainData Version: 1.26.0 Command: /home/biocbuild/bbs-3.20-bioc/R/bin/R CMD build --keep-empty-dirs --no-resave-data TENxBrainData StartedAt: 2025-04-01 11:38:29 -0400 (Tue, 01 Apr 2025) EndedAt: 2025-04-01 11:40:30 -0400 (Tue, 01 Apr 2025) EllapsedTime: 121.6 seconds RetCode: 0 Status: OK PackageFile: TENxBrainData_1.26.0.tar.gz PackageFileSize: 437.9 KiB