Package: SingleMoleculeFootprintingData Version: 1.14.0 Command: /home/biocbuild/bbs-3.20-bioc/R/bin/R CMD INSTALL SingleMoleculeFootprintingData StartedAt: 2025-04-01 10:57:13 -0400 (Tue, 01 Apr 2025) EndedAt: 2025-04-01 10:57:23 -0400 (Tue, 01 Apr 2025) EllapsedTime: 9.5 seconds RetCode: 0 Status: OK