Package: SingleMoleculeFootprintingData Version: 1.14.0 Command: /home/biocbuild/bbs-3.20-bioc/R/bin/R CMD build --keep-empty-dirs --no-resave-data SingleMoleculeFootprintingData StartedAt: 2025-04-01 11:36:27 -0400 (Tue, 01 Apr 2025) EndedAt: 2025-04-01 11:36:45 -0400 (Tue, 01 Apr 2025) EllapsedTime: 17.4 seconds RetCode: 0 Status: OK PackageFile: SingleMoleculeFootprintingData_1.14.0.tar.gz PackageFileSize: 20.08 KiB