Package: SimBenchData Version: 1.14.0 Command: /home/biocbuild/bbs-3.20-bioc/R/bin/R CMD INSTALL SimBenchData StartedAt: 2025-04-01 10:57:21 -0400 (Tue, 01 Apr 2025) EndedAt: 2025-04-01 10:57:34 -0400 (Tue, 01 Apr 2025) EllapsedTime: 12.4 seconds RetCode: 0 Status: OK