Package: SimBenchData Version: 1.14.0 Command: /home/biocbuild/bbs-3.20-bioc/R/bin/R CMD check --install=check:SimBenchData.install-out.txt --library=/home/biocbuild/bbs-3.20-bioc/R/site-library --timings SimBenchData_1.14.0.tar.gz StartedAt: 2025-04-01 12:36:05 -0400 (Tue, 01 Apr 2025) EndedAt: 2025-04-01 12:37:08 -0400 (Tue, 01 Apr 2025) EllapsedTime: 62.7 seconds RetCode: 0 Status: OK CheckDir: SimBenchData.Rcheck Warnings: 0