Package: SimBenchData Version: 1.14.0 Command: /home/biocbuild/bbs-3.20-bioc/R/bin/R CMD build --keep-empty-dirs --no-resave-data SimBenchData StartedAt: 2025-04-01 11:36:11 -0400 (Tue, 01 Apr 2025) EndedAt: 2025-04-01 11:36:32 -0400 (Tue, 01 Apr 2025) EllapsedTime: 21.4 seconds RetCode: 0 Status: OK PackageFile: SimBenchData_1.14.0.tar.gz PackageFileSize: 236 KiB