Package: SVM2CRMdata Version: 1.38.0 Command: /home/biocbuild/bbs-3.20-bioc/R/bin/R CMD INSTALL SVM2CRMdata StartedAt: 2025-04-01 10:55:42 -0400 (Tue, 01 Apr 2025) EndedAt: 2025-04-01 10:55:44 -0400 (Tue, 01 Apr 2025) EllapsedTime: 1.9 seconds RetCode: 0 Status: OK