Package: STexampleData Version: 1.14.3 Command: /home/biocbuild/bbs-3.20-bioc/R/bin/R CMD check --install=check:STexampleData.install-out.txt --library=/home/biocbuild/bbs-3.20-bioc/R/site-library --timings STexampleData_1.14.3.tar.gz StartedAt: 2025-04-01 12:38:59 -0400 (Tue, 01 Apr 2025) EndedAt: 2025-04-01 12:42:59 -0400 (Tue, 01 Apr 2025) EllapsedTime: 239.7 seconds RetCode: 0 Status: OK CheckDir: STexampleData.Rcheck Warnings: 0