Package: STexampleData Version: 1.14.3 Command: /home/biocbuild/bbs-3.20-bioc/R/bin/R CMD build --keep-empty-dirs --no-resave-data STexampleData StartedAt: 2025-04-01 11:37:09 -0400 (Tue, 01 Apr 2025) EndedAt: 2025-04-01 11:38:31 -0400 (Tue, 01 Apr 2025) EllapsedTime: 82.0 seconds RetCode: 0 Status: OK PackageFile: STexampleData_1.14.3.tar.gz PackageFileSize: 235.6 KiB