Package: RforProteomics Version: 1.44.0 Command: /home/biocbuild/bbs-3.20-bioc/R/bin/R CMD INSTALL RforProteomics StartedAt: 2025-04-01 11:01:13 -0400 (Tue, 01 Apr 2025) EndedAt: 2025-04-01 11:01:45 -0400 (Tue, 01 Apr 2025) EllapsedTime: 32.0 seconds RetCode: 0 Status: OK