Package: ReactomeGSA.data Version: 1.20.0 Command: /home/biocbuild/bbs-3.20-bioc/R/bin/R CMD INSTALL ReactomeGSA.data StartedAt: 2025-04-01 10:57:41 -0400 (Tue, 01 Apr 2025) EndedAt: 2025-04-01 10:57:59 -0400 (Tue, 01 Apr 2025) EllapsedTime: 17.3 seconds RetCode: 0 Status: OK