Package: ReactomeGSA.data Version: 1.20.0 Command: /home/biocbuild/bbs-3.20-bioc/R/bin/R CMD build --keep-empty-dirs --no-resave-data ReactomeGSA.data StartedAt: 2025-04-01 11:32:00 -0400 (Tue, 01 Apr 2025) EndedAt: 2025-04-01 11:33:23 -0400 (Tue, 01 Apr 2025) EllapsedTime: 82.8 seconds RetCode: 0 Status: OK PackageFile: ReactomeGSA.data_1.20.0.tar.gz PackageFileSize: 23.08 MiB