Package: RTCGA.rnaseq Version: 20151101.36.0 Command: /home/biocbuild/bbs-3.20-bioc/R/bin/R CMD INSTALL RTCGA.rnaseq StartedAt: 2025-04-01 10:58:00 -0400 (Tue, 01 Apr 2025) EndedAt: 2025-04-01 11:00:55 -0400 (Tue, 01 Apr 2025) EllapsedTime: 175.1 seconds RetCode: 0 Status: OK