Package: RTCGA.rnaseq Version: 20151101.36.0 Command: /home/biocbuild/bbs-3.20-bioc/R/bin/R CMD build --keep-empty-dirs --no-resave-data RTCGA.rnaseq StartedAt: 2025-04-01 11:33:53 -0400 (Tue, 01 Apr 2025) EndedAt: 2025-04-01 11:37:17 -0400 (Tue, 01 Apr 2025) EllapsedTime: 203.8 seconds RetCode: 0 Status: OK PackageFile: RTCGA.rnaseq_20151101.36.0.tar.gz PackageFileSize: 612.6 MiB