Package: RTCGA.RPPA Version: 1.34.0 Command: /home/biocbuild/bbs-3.20-bioc/R/bin/R CMD INSTALL RTCGA.RPPA StartedAt: 2025-04-01 10:58:03 -0400 (Tue, 01 Apr 2025) EndedAt: 2025-04-01 10:58:14 -0400 (Tue, 01 Apr 2025) EllapsedTime: 10.8 seconds RetCode: 0 Status: OK