Package: RTCGA.RPPA Version: 1.34.0 Command: /home/biocbuild/bbs-3.20-bioc/R/bin/R CMD build --keep-empty-dirs --no-resave-data RTCGA.RPPA StartedAt: 2025-04-01 11:34:09 -0400 (Tue, 01 Apr 2025) EndedAt: 2025-04-01 11:34:22 -0400 (Tue, 01 Apr 2025) EllapsedTime: 13.0 seconds RetCode: 0 Status: OK PackageFile: RTCGA.RPPA_1.34.0.tar.gz PackageFileSize: 13.09 MiB