Package: RTCGA.CNV Version: 1.34.0 Command: /home/biocbuild/bbs-3.20-bioc/R/bin/R CMD INSTALL RTCGA.CNV StartedAt: 2025-04-01 10:57:56 -0400 (Tue, 01 Apr 2025) EndedAt: 2025-04-01 10:58:12 -0400 (Tue, 01 Apr 2025) EllapsedTime: 15.5 seconds RetCode: 0 Status: OK