Package: RTCGA.CNV Version: 1.34.0 Command: /home/biocbuild/bbs-3.20-bioc/R/bin/R CMD build --keep-empty-dirs --no-resave-data RTCGA.CNV StartedAt: 2025-04-01 11:33:09 -0400 (Tue, 01 Apr 2025) EndedAt: 2025-04-01 11:33:29 -0400 (Tue, 01 Apr 2025) EllapsedTime: 20.1 seconds RetCode: 0 Status: OK PackageFile: RTCGA.CNV_1.34.0.tar.gz PackageFileSize: 27.37 MiB