Package: RNAinteractMAPK Version: 1.44.0 Command: /home/biocbuild/bbs-3.20-bioc/R/bin/R CMD INSTALL RNAinteractMAPK StartedAt: 2025-04-01 11:05:43 -0400 (Tue, 01 Apr 2025) EndedAt: 2025-04-01 11:05:43 -0400 (Tue, 01 Apr 2025) EllapsedTime: 0.2 seconds RetCode: 1 Status: ERROR