Package: NGScopyData Version: 1.26.0 Command: /home/biocbuild/bbs-3.20-bioc/R/bin/R CMD build --keep-empty-dirs --no-resave-data NGScopyData StartedAt: 2025-04-01 11:28:51 -0400 (Tue, 01 Apr 2025) EndedAt: 2025-04-01 11:28:55 -0400 (Tue, 01 Apr 2025) EllapsedTime: 3.4 seconds RetCode: 0 Status: OK PackageFile: NGScopyData_1.26.0.tar.gz PackageFileSize: 37 MiB