Package: MouseGastrulationData Version: 1.20.0 Command: /home/biocbuild/bbs-3.20-bioc/R/bin/R CMD INSTALL MouseGastrulationData StartedAt: 2025-04-01 11:04:01 -0400 (Tue, 01 Apr 2025) EndedAt: 2025-04-01 11:04:31 -0400 (Tue, 01 Apr 2025) EllapsedTime: 29.7 seconds RetCode: 0 Status: OK