Package: MouseGastrulationData Version: 1.20.0 Command: /home/biocbuild/bbs-3.20-bioc/R/bin/R CMD check --install=check:MouseGastrulationData.install-out.txt --library=/home/biocbuild/bbs-3.20-bioc/R/site-library --timings MouseGastrulationData_1.20.0.tar.gz StartedAt: 2025-04-01 12:20:04 -0400 (Tue, 01 Apr 2025) EndedAt: 2025-04-01 12:26:25 -0400 (Tue, 01 Apr 2025) EllapsedTime: 381.5 seconds RetCode: 0 Status: OK CheckDir: MouseGastrulationData.Rcheck Warnings: 0