Package: MouseGastrulationData Version: 1.20.0 Command: /home/biocbuild/bbs-3.20-bioc/R/bin/R CMD build --keep-empty-dirs --no-resave-data MouseGastrulationData StartedAt: 2025-04-01 11:27:20 -0400 (Tue, 01 Apr 2025) EndedAt: 2025-04-01 11:28:36 -0400 (Tue, 01 Apr 2025) EllapsedTime: 76.7 seconds RetCode: 0 Status: OK PackageFile: MouseGastrulationData_1.20.0.tar.gz PackageFileSize: 507.7 KiB