Package: MethylAidData Version: 1.38.0 Command: /home/biocbuild/bbs-3.20-bioc/R/bin/R CMD check --install=check:MethylAidData.install-out.txt --library=/home/biocbuild/bbs-3.20-bioc/R/site-library --timings MethylAidData_1.38.0.tar.gz StartedAt: 2025-04-01 12:16:19 -0400 (Tue, 01 Apr 2025) EndedAt: 2025-04-01 12:19:39 -0400 (Tue, 01 Apr 2025) EllapsedTime: 200.9 seconds RetCode: 0 Status: OK CheckDir: MethylAidData.Rcheck Warnings: 0