Package: MerfishData Version: 1.8.0 Command: /home/biocbuild/bbs-3.20-bioc/R/bin/R CMD INSTALL MerfishData StartedAt: 2025-04-01 11:00:05 -0400 (Tue, 01 Apr 2025) EndedAt: 2025-04-01 11:00:29 -0400 (Tue, 01 Apr 2025) EllapsedTime: 24.2 seconds RetCode: 0 Status: OK