Package: MerfishData Version: 1.8.0 Command: /home/biocbuild/bbs-3.20-bioc/R/bin/R CMD check --install=check:MerfishData.install-out.txt --library=/home/biocbuild/bbs-3.20-bioc/R/site-library --timings MerfishData_1.8.0.tar.gz StartedAt: 2025-04-01 12:16:03 -0400 (Tue, 01 Apr 2025) EndedAt: 2025-04-01 12:36:02 -0400 (Tue, 01 Apr 2025) EllapsedTime: 1199.9 seconds RetCode: 0 Status: OK CheckDir: MerfishData.Rcheck Warnings: 0