Package: MerfishData Version: 1.8.0 Command: /home/biocbuild/bbs-3.20-bioc/R/bin/R CMD build --keep-empty-dirs --no-resave-data MerfishData StartedAt: 2025-04-01 11:25:37 -0400 (Tue, 01 Apr 2025) EndedAt: 2025-04-01 11:34:33 -0400 (Tue, 01 Apr 2025) EllapsedTime: 535.9 seconds RetCode: 0 Status: OK PackageFile: MerfishData_1.8.0.tar.gz PackageFileSize: 24.11 MiB