Package: MUGAExampleData Version: 1.26.0 Command: /home/biocbuild/bbs-3.20-bioc/R/bin/R CMD check --install=check:MUGAExampleData.install-out.txt --library=/home/biocbuild/bbs-3.20-bioc/R/site-library --timings MUGAExampleData_1.26.0.tar.gz StartedAt: 2025-04-01 12:21:15 -0400 (Tue, 01 Apr 2025) EndedAt: 2025-04-01 12:21:53 -0400 (Tue, 01 Apr 2025) EllapsedTime: 38.5 seconds RetCode: 0 Status: OK CheckDir: MUGAExampleData.Rcheck Warnings: 0