Package: HMP2Data Version: 1.20.0 Command: /home/biocbuild/bbs-3.20-bioc/R/bin/R CMD check --install=check:HMP2Data.install-out.txt --library=/home/biocbuild/bbs-3.20-bioc/R/site-library --timings HMP2Data_1.20.0.tar.gz StartedAt: 2025-04-01 12:08:21 -0400 (Tue, 01 Apr 2025) EndedAt: 2025-04-01 12:13:21 -0400 (Tue, 01 Apr 2025) EllapsedTime: 299.5 seconds RetCode: 0 Status: OK CheckDir: HMP2Data.Rcheck Warnings: 0