Package: HCATonsilData Version: 1.4.0 Command: /home/biocbuild/bbs-3.20-bioc/R/bin/R CMD INSTALL HCATonsilData StartedAt: 2025-04-01 11:03:40 -0400 (Tue, 01 Apr 2025) EndedAt: 2025-04-01 11:04:13 -0400 (Tue, 01 Apr 2025) EllapsedTime: 32.6 seconds RetCode: 0 Status: OK