Package: HCATonsilData Version: 1.4.0 Command: /home/biocbuild/bbs-3.20-bioc/R/bin/R CMD build --keep-empty-dirs --no-resave-data HCATonsilData StartedAt: 2025-04-01 11:19:57 -0400 (Tue, 01 Apr 2025) EndedAt: 2025-04-01 11:21:09 -0400 (Tue, 01 Apr 2025) EllapsedTime: 71.7 seconds RetCode: 0 Status: OK PackageFile: HCATonsilData_1.4.0.tar.gz PackageFileSize: 6.268 MiB