Package: DuoClustering2018 Version: 1.24.0 Command: /home/biocbuild/bbs-3.20-bioc/R/bin/R CMD check --install=check:DuoClustering2018.install-out.txt --library=/home/biocbuild/bbs-3.20-bioc/R/site-library --timings DuoClustering2018_1.24.0.tar.gz StartedAt: 2025-04-01 11:56:48 -0400 (Tue, 01 Apr 2025) EndedAt: 2025-04-01 12:01:00 -0400 (Tue, 01 Apr 2025) EllapsedTime: 251.5 seconds RetCode: 0 Status: OK CheckDir: DuoClustering2018.Rcheck Warnings: 0