Package: DuoClustering2018 Version: 1.24.0 Command: /home/biocbuild/bbs-3.20-bioc/R/bin/R CMD build --keep-empty-dirs --no-resave-data DuoClustering2018 StartedAt: 2025-04-01 11:13:51 -0400 (Tue, 01 Apr 2025) EndedAt: 2025-04-01 11:15:23 -0400 (Tue, 01 Apr 2025) EllapsedTime: 92.1 seconds RetCode: 0 Status: OK PackageFile: DuoClustering2018_1.24.0.tar.gz PackageFileSize: 2.209 MiB