Package: DNAZooData Version: 1.6.0 Command: /home/biocbuild/bbs-3.20-bioc/R/bin/R CMD build --keep-empty-dirs --no-resave-data DNAZooData StartedAt: 2025-04-01 11:13:25 -0400 (Tue, 01 Apr 2025) EndedAt: 2025-04-01 11:14:04 -0400 (Tue, 01 Apr 2025) EllapsedTime: 38.7 seconds RetCode: 0 Status: OK PackageFile: DNAZooData_1.6.0.tar.gz PackageFileSize: 235.7 KiB