Package: CopyNeutralIMA Version: 1.24.0 Command: /home/biocbuild/bbs-3.20-bioc/R/bin/R CMD INSTALL CopyNeutralIMA StartedAt: 2025-04-01 10:57:49 -0400 (Tue, 01 Apr 2025) EndedAt: 2025-04-01 10:58:05 -0400 (Tue, 01 Apr 2025) EllapsedTime: 16.9 seconds RetCode: 0 Status: OK