Package: CopyNeutralIMA Version: 1.24.0 Command: /home/biocbuild/bbs-3.20-bioc/R/bin/R CMD build --keep-empty-dirs --no-resave-data CopyNeutralIMA StartedAt: 2025-04-01 11:09:41 -0400 (Tue, 01 Apr 2025) EndedAt: 2025-04-01 11:13:28 -0400 (Tue, 01 Apr 2025) EllapsedTime: 227.1 seconds RetCode: 0 Status: OK PackageFile: CopyNeutralIMA_1.24.0.tar.gz PackageFileSize: 566.9 KiB