Package: CluMSIDdata Version: 1.22.0 Command: /home/biocbuild/bbs-3.20-bioc/R/bin/R CMD check --install=check:CluMSIDdata.install-out.txt --library=/home/biocbuild/bbs-3.20-bioc/R/site-library --timings CluMSIDdata_1.22.0.tar.gz StartedAt: 2025-04-01 11:48:17 -0400 (Tue, 01 Apr 2025) EndedAt: 2025-04-01 11:48:29 -0400 (Tue, 01 Apr 2025) EllapsedTime: 12.0 seconds RetCode: 0 Status: OK CheckDir: CluMSIDdata.Rcheck Warnings: 0