Package: CardinalWorkflows Version: 1.38.0 Command: /home/biocbuild/bbs-3.20-bioc/R/bin/R CMD INSTALL CardinalWorkflows StartedAt: 2025-04-01 10:57:47 -0400 (Tue, 01 Apr 2025) EndedAt: 2025-04-01 10:58:00 -0400 (Tue, 01 Apr 2025) EllapsedTime: 12.7 seconds RetCode: 0 Status: OK