Package: CardinalWorkflows Version: 1.38.0 Command: /home/biocbuild/bbs-3.20-bioc/R/bin/R CMD check --install=check:CardinalWorkflows.install-out.txt --library=/home/biocbuild/bbs-3.20-bioc/R/site-library --timings CardinalWorkflows_1.38.0.tar.gz StartedAt: 2025-04-01 11:45:34 -0400 (Tue, 01 Apr 2025) EndedAt: 2025-04-01 12:03:05 -0400 (Tue, 01 Apr 2025) EllapsedTime: 1051.1 seconds RetCode: 0 Status: OK CheckDir: CardinalWorkflows.Rcheck Warnings: 0