Package: CRCL18 Version: 1.26.0 Command: /home/biocbuild/bbs-3.20-bioc/R/bin/R CMD build --keep-empty-dirs --no-resave-data CRCL18 StartedAt: 2025-04-01 11:09:44 -0400 (Tue, 01 Apr 2025) EndedAt: 2025-04-01 11:09:50 -0400 (Tue, 01 Apr 2025) EllapsedTime: 6.0 seconds RetCode: 0 Status: OK PackageFile: CRCL18_1.26.0.tar.gz PackageFileSize: 2.46 MiB