Package: CLL Version: 1.46.0 Command: /home/biocbuild/bbs-3.20-bioc/R/bin/R CMD INSTALL CLL StartedAt: 2025-04-01 10:56:11 -0400 (Tue, 01 Apr 2025) EndedAt: 2025-04-01 10:56:15 -0400 (Tue, 01 Apr 2025) EllapsedTime: 4.1 seconds RetCode: 0 Status: OK