Package: AneuFinderData Version: 1.34.0 Command: /home/biocbuild/bbs-3.20-bioc/R/bin/R CMD check --install=check:AneuFinderData.install-out.txt --library=/home/biocbuild/bbs-3.20-bioc/R/site-library --timings AneuFinderData_1.34.0.tar.gz StartedAt: 2025-04-01 11:43:01 -0400 (Tue, 01 Apr 2025) EndedAt: 2025-04-01 11:43:15 -0400 (Tue, 01 Apr 2025) EllapsedTime: 13.3 seconds RetCode: 0 Status: WARNINGS CheckDir: AneuFinderData.Rcheck Warnings: 1