Package: AmpAffyExample Version: 1.46.0 Command: /home/biocbuild/bbs-3.20-bioc/R/bin/R CMD INSTALL AmpAffyExample StartedAt: 2025-04-01 10:56:24 -0400 (Tue, 01 Apr 2025) EndedAt: 2025-04-01 10:56:27 -0400 (Tue, 01 Apr 2025) EllapsedTime: 2.5 seconds RetCode: 0 Status: OK