Package: AmpAffyExample Version: 1.46.0 Command: /home/biocbuild/bbs-3.20-bioc/R/bin/R CMD build --keep-empty-dirs --no-resave-data AmpAffyExample StartedAt: 2025-04-01 11:05:48 -0400 (Tue, 01 Apr 2025) EndedAt: 2025-04-01 11:05:51 -0400 (Tue, 01 Apr 2025) EllapsedTime: 2.3 seconds RetCode: 0 Status: OK PackageFile: AmpAffyExample_1.46.0.tar.gz PackageFileSize: 6.464 MiB