Package: ARRmData Version: 1.42.0 Command: /home/biocbuild/bbs-3.20-bioc/R/bin/R CMD check --install=check:ARRmData.install-out.txt --library=/home/biocbuild/bbs-3.20-bioc/R/site-library --timings ARRmData_1.42.0.tar.gz StartedAt: 2025-04-01 11:43:01 -0400 (Tue, 01 Apr 2025) EndedAt: 2025-04-01 11:43:29 -0400 (Tue, 01 Apr 2025) EllapsedTime: 28.1 seconds RetCode: 0 Status: OK CheckDir: ARRmData.Rcheck Warnings: 0