Package: phastCons30way.UCSC.hg38 Version: 3.13.0 Command: /home/biocbuild/bbs-3.20-bioc/R/bin/R CMD INSTALL phastCons30way.UCSC.hg38 StartedAt: 2025-04-02 06:30:23 -0400 (Wed, 02 Apr 2025) EndedAt: 2025-04-02 06:30:39 -0400 (Wed, 02 Apr 2025) EllapsedTime: 16.4 seconds RetCode: 0 Status: OK