Package: xcms Version: 4.4.0 Command: /home/biocbuild/bbs-3.20-bioc/R/bin/R CMD check --test-dir=longtests --no-stop-on-test-error --no-codoc --no-examples --no-manual --ignore-vignettes --check-subdirs=no xcms_4.4.0.tar.gz StartedAt: 2025-03-29 16:24:53 -0400 (Sat, 29 Mar 2025) EndedAt: 2025-03-29 16:31:07 -0400 (Sat, 29 Mar 2025) EllapsedTime: 374.1 seconds RetCode: 1 Status: ERROR CheckDir: xcms.Rcheck Warnings: NA