Package: DelayedMatrixStats Version: 1.28.1 Command: /home/biocbuild/bbs-3.20-bioc/R/bin/R CMD check --test-dir=longtests --no-stop-on-test-error --no-codoc --no-examples --no-manual --ignore-vignettes --check-subdirs=no DelayedMatrixStats_1.28.1.tar.gz StartedAt: 2025-03-29 16:11:55 -0400 (Sat, 29 Mar 2025) EndedAt: 2025-03-29 16:13:27 -0400 (Sat, 29 Mar 2025) EllapsedTime: 92.0 seconds RetCode: 0 Status: OK CheckDir: DelayedMatrixStats.Rcheck Warnings: 0